BEGIN:VCALENDAR
VERSION:2.0
PRODID:-//Bras For A Cause - ECPv6.3.5//NONSGML v1.0//EN
CALSCALE:GREGORIAN
METHOD:PUBLISH
X-WR-CALNAME:Bras For A Cause
X-ORIGINAL-URL:https://brasforacausefresno.com
X-WR-CALDESC:Events for Bras For A Cause
REFRESH-INTERVAL;VALUE=DURATION:PT1H
X-Robots-Tag:noindex
X-PUBLISHED-TTL:PT1H
BEGIN:VTIMEZONE
TZID:UTC
BEGIN:STANDARD
TZOFFSETFROM:+0000
TZOFFSETTO:+0000
TZNAME:UTC
DTSTART:20180101T000000
END:STANDARD
END:VTIMEZONE
BEGIN:VEVENT
DTSTART;VALUE=DATE:20181117
DTEND;VALUE=DATE:20181119
DTSTAMP:20260426T043010
CREATED:20180416T014413Z
LAST-MODIFIED:20180416T014413Z
UID:159-1542412800-1542585599@brasforacausefresno.com
SUMMARY:Distribution of Bras and Wigs
DESCRIPTION:
URL:https://brasforacausefresno.com/event/distribution-of-bras-and-wigs/
LOCATION:CA
END:VEVENT
BEGIN:VEVENT
DTSTART;TZID=UTC:20180922T080000
DTEND;TZID=UTC:20180922T170000
DTSTAMP:20260426T043010
CREATED:20180416T014159Z
LAST-MODIFIED:20180416T014159Z
UID:155-1537603200-1537635600@brasforacausefresno.com
SUMMARY:Bras for the Cause Brunch
DESCRIPTION:
URL:https://brasforacausefresno.com/event/bras-for-the-cause-brunch/
LOCATION:CA
END:VEVENT
BEGIN:VEVENT
DTSTART;VALUE=DATE:20180922
DTEND;VALUE=DATE:20181104
DTSTAMP:20260426T043010
CREATED:20180416T014317Z
LAST-MODIFIED:20180416T014317Z
UID:157-1537574400-1541289599@brasforacausefresno.com
SUMMARY:Bras and Wig Drive
DESCRIPTION:
URL:https://brasforacausefresno.com/event/bras-and-wig-drive/
LOCATION:CA
END:VEVENT
BEGIN:VEVENT
DTSTART;TZID=UTC:20180609T110000
DTEND;TZID=UTC:20180609T130000
DTSTAMP:20260426T043010
CREATED:20180416T014034Z
LAST-MODIFIED:20180416T014034Z
UID:152-1528542000-1528549200@brasforacausefresno.com
SUMMARY:Bras for A Cause Zumbathon
DESCRIPTION:
URL:https://brasforacausefresno.com/event/bras-for-a-cause-zumbathon/
LOCATION:CA
END:VEVENT
END:VCALENDAR