BEGIN:VCALENDAR
VERSION:2.0
PRODID:-//Bras For A Cause - ECPv6.3.5//NONSGML v1.0//EN
CALSCALE:GREGORIAN
METHOD:PUBLISH
X-ORIGINAL-URL:https://brasforacausefresno.com
X-WR-CALDESC:Events for Bras For A Cause
REFRESH-INTERVAL;VALUE=DURATION:PT1H
X-Robots-Tag:noindex
X-PUBLISHED-TTL:PT1H
BEGIN:VTIMEZONE
TZID:UTC
BEGIN:STANDARD
TZOFFSETFROM:+0000
TZOFFSETTO:+0000
TZNAME:UTC
DTSTART:20230101T000000
END:STANDARD
END:VTIMEZONE
BEGIN:VEVENT
DTSTART;TZID=UTC:20231028T103000
DTEND;TZID=UTC:20231028T123000
DTSTAMP:20260425T114905
CREATED:20231010T182528Z
LAST-MODIFIED:20231010T185936Z
UID:692-1698489000-1698496200@brasforacausefresno.com
SUMMARY:ZUMBA For A Cause:  ZUMBATHON 2023
DESCRIPTION:🎉 Join us for a Zumba for A Cause: Zumbathon! 💃\n\nGet ready to dance and support the fight against breast cancer! 🎗💪\n\n📅 Save the date: October 28th\, 2023\n⏰ Time: 10:30 AM – 12:30 PM\n📍 Location: 3219 E. Shields Ave\, 93726\n\n🔥 Show off your best moves with 8-9 professional instructors for 2 fun-filled hours! 💃\n\nTickets are just $15 online and $20 at the door. Don’t miss out on this incredible event! 🎟\n\n#ZumbaForACause #DanceForACure #BreastCancerAwareness #SupportTheFight\n\nMark your calendars and get ready to sweat for a great cause! Let’s make a difference together. 🌟🎗\n 
URL:https://brasforacausefresno.com/event/zumba-for-a-cause-zumbathon-2023/
LOCATION:Strong Family Fitness\, 3219 E. Shields Ave 93726\, Fresno\, CA\, 93710\, United States
END:VEVENT
END:VCALENDAR